BEGIN:VCALENDAR
PRODID:NingEventWidget-v1
VERSION:2.0
METHOD:PUBLISH
BEGIN:VTIMEZONE
TZID:America/Anguilla
X-LIC-LOCATION:America/Anguilla
BEGIN:STANDARD
TZOFFSETFROM:-0400
TZOFFSETTO:-0400
TZNAME:AST
DTSTART:19700101T000000
END:STANDARD
END:VTIMEZONE
BEGIN:VEVENT
UID:5906932:Event:76046
DTSTAMP:20260424T055306Z
SUMMARY:“A C A D E M I C . A R T…TEACHERS THAT DO” SERIES WILL F
 EATURE THE ART WORK OF LIVERPOOL ART TEACHERS…
DESCRIPTION:TH3 event!!! Opening: Teachers That Do!\nApril 19th\n5-8 p
 m\nShow will hang until May 13th, open during regular business hours!\
 n\nFor more information visit https://cnycreators.com/events/a-c-a-d-e
 -m-i-c-a-r-t-teachers-that-do-series-will-feature-the
DTSTART;TZID=America/Anguilla:20120419T170000
DTEND;TZID=America/Anguilla:20120513T190000
CATEGORIES:art, show, and, opening, "artist's", reception
LOCATION:Armory Square
WEBSITE:http://eurekacrafts.wordpress.com/
URL:http://eurekacrafts.wordpress.com/
CONTACT:
ORGANIZER:Eureka Crafts
ATTACH;FMTTYPE="image/jpeg":http://storage.ning.com/topology/rest/1.0/
 file/get/1113355685?profile=original
ATTENDEE;ROLE=REQ-PARTICIPANT;PARTSTAT=ACCEPTED;RSVP=TRUE;CN="Deb Dahl
 in":https://cnycreators.com/profile/DebDahlin
END:VEVENT
END:VCALENDAR
