BEGIN:VCALENDAR
PRODID:NingEventWidget-v1
VERSION:2.0
METHOD:PUBLISH
BEGIN:VTIMEZONE
TZID:America/Anguilla
X-LIC-LOCATION:America/Anguilla
BEGIN:STANDARD
TZOFFSETFROM:-0400
TZOFFSETTO:-0400
TZNAME:AST
DTSTART:19700101T000000
END:STANDARD
END:VTIMEZONE
BEGIN:VEVENT
UID:5906932:Event:69012
DTSTAMP:20260424T080331Z
SUMMARY:Art Exhibition by sylvia steen
DESCRIPTION: \n I am having a show at the Rome art and cultural cent
 er Dec 9- Jan 13. The reception is 6 to 8pm Dec 9th.\n\nFor more infor
 mation visit https://cnycreators.com/events/art-exhibition-by-sylvia-s
 teen
DTSTART;TZID=America/Anguilla:20111203T180000
DTEND;TZID=America/Anguilla:20111203T190000
CATEGORIES:art, exhibition
LOCATION:Rome Art center and Community Center
WEBSITE:
URL:
CONTACT:
ORGANIZER:Rome Art and community center
ATTACH;FMTTYPE="image/jpeg":
ATTENDEE;ROLE=REQ-PARTICIPANT;PARTSTAT=ACCEPTED;RSVP=TRUE;CN="sylvia s
 teen":https://cnycreators.com/profile/sylviasteen
END:VEVENT
END:VCALENDAR
