BEGIN:VCALENDAR
PRODID:NingEventWidget-v1
VERSION:2.0
METHOD:PUBLISH
BEGIN:VTIMEZONE
TZID:America/Anguilla
X-LIC-LOCATION:America/Anguilla
BEGIN:STANDARD
TZOFFSETFROM:-0400
TZOFFSETTO:-0400
TZNAME:AST
DTSTART:19700101T000000
END:STANDARD
END:VTIMEZONE
BEGIN:VEVENT
UID:5906932:Event:79216
DTSTAMP:20260423T143120Z
SUMMARY:Art In The Park
DESCRIPTION:Fine Art and Fine Crafts will be available at this popular
  festival which will also feature the antics of LouLou Lollipop the Cl
 own, and Celtic music with Bill Delaney.  Kids can color a masterpiec
 e in the Children’s Tent.  Food will be available, and parking is f
 ree. \n\nFor more information visit https://cnycreators.com/events/ar
 t-in-the-park-1
DTSTART;TZID=America/Anguilla:20120623T100000
DTEND;TZID=America/Anguilla:20120623T170000
CATEGORIES:arts, festival
LOCATION:Marcellus Park
WEBSITE:
URL:
CONTACT:
ORGANIZER;CN="Judith K. Hand":https://cnycreators.com/profile/JudithKH
 and
ATTACH;FMTTYPE="image/jpeg":http://storage.ning.com/topology/rest/1.0/
 file/get/1113353338?profile=original
ATTENDEE;ROLE=REQ-PARTICIPANT;PARTSTAT=ACCEPTED;RSVP=TRUE;CN="Judith K
 . Hand":https://cnycreators.com/profile/JudithKHand
END:VEVENT
END:VCALENDAR
