BEGIN:VCALENDAR
PRODID:NingEventWidget-v1
VERSION:2.0
METHOD:PUBLISH
BEGIN:VTIMEZONE
TZID:America/Anguilla
X-LIC-LOCATION:America/Anguilla
BEGIN:STANDARD
TZOFFSETFROM:-0400
TZOFFSETTO:-0400
TZNAME:AST
DTSTART:19700101T000000
END:STANDARD
END:VTIMEZONE
BEGIN:VEVENT
UID:5906932:Event:55398
DTSTAMP:20260424T094852Z
SUMMARY:Art Show at Provisions Bakery
DESCRIPTION:There are 34 paintings, primarily pastels, displayed in th
 is wonderful bakery. Customers have an opportunity to enjoy the art as
  they are comforted with delicious pastries, sandwiches, breads, soups
  and salads. Please come and enjoy it all. The hours are 7:30 to 11 am
  for breakfast and 11:30 to 2:30 for lunch. They are open weekdays.\n\
 nFor more information visit https://cnycreators.com/events/art-show-at
 -provisions-bakery
DTSTART;TZID=America/Anguilla:20110906T073000
DTEND;TZID=America/Anguilla:20111031T143000
CATEGORIES:new, work, by, artist, barbara, vural
LOCATION:Armory Square
WEBSITE:
URL:
CONTACT:
ORGANIZER;CN="Barbara Vural":https://cnycreators.com/profile/BARBARAVU
 RAL
ATTACH;FMTTYPE="image/jpeg":http://storage.ning.com/topology/rest/1.0/
 file/get/1113349996?profile=original
ATTENDEE;ROLE=REQ-PARTICIPANT;PARTSTAT=ACCEPTED;RSVP=TRUE;CN="Barbara 
 Vural":https://cnycreators.com/profile/BARBARAVURAL
END:VEVENT
END:VCALENDAR
