BEGIN:VCALENDAR
PRODID:NingEventWidget-v1
VERSION:2.0
METHOD:PUBLISH
BEGIN:VTIMEZONE
TZID:America/Anguilla
X-LIC-LOCATION:America/Anguilla
BEGIN:STANDARD
TZOFFSETFROM:-0400
TZOFFSETTO:-0400
TZNAME:AST
DTSTART:19700101T000000
END:STANDARD
END:VTIMEZONE
BEGIN:VEVENT
UID:5906932:Event:16612
DTSTAMP:20260424T143816Z
SUMMARY:Artist in Attendance with Linda Esterley
DESCRIPTION:Linda Esterley starts off the new series of Artist in Atte
 ndance at Szozda Gallery. Couldn't make the reception or didn't have 
 time to speak with the artist, here's another chance!\n\nFor more info
 rmation visit https://cnycreators.com/events/artist-in-attendance-with
DTSTART;TZID=America/Anguilla:20110312T000000
DTEND;TZID=America/Anguilla:20110312T160000
CATEGORIES:gallery, event, meet, the, artist
LOCATION:Szozda Gallery
WEBSITE:
URL:
CONTACT:315.579.2805
ORGANIZER;CN="Szozda Gallery":https://cnycreators.com/profile/SzozdaGa
 llery
ATTACH;FMTTYPE="image/jpeg":
ATTENDEE;ROLE=REQ-PARTICIPANT;PARTSTAT=ACCEPTED;RSVP=TRUE;CN="Szozda G
 allery":https://cnycreators.com/profile/SzozdaGallery
END:VEVENT
END:VCALENDAR
