BEGIN:VCALENDAR
PRODID:NingEventWidget-v1
VERSION:2.0
METHOD:PUBLISH
BEGIN:VTIMEZONE
TZID:America/Anguilla
X-LIC-LOCATION:America/Anguilla
BEGIN:STANDARD
TZOFFSETFROM:-0400
TZOFFSETTO:-0400
TZNAME:AST
DTSTART:19700101T000000
END:STANDARD
END:VTIMEZONE
BEGIN:VEVENT
UID:5906932:Event:106739
DTSTAMP:20260424T004233Z
SUMMARY:Artist of the Month 'Diana Suskind'  Opening and Exhibit
DESCRIPTION:Leominster Art Center and Gallery\nMain Street\nLeominster
 , MA 01453\nMay 2nd 6-8pm\nIt is up for the month of May and well as p
 resently in three storefronts in downtown Leominster. Stonework Play w
 ill be available to give it a go on May 2nd.\n\nFor more information v
 isit https://cnycreators.com/events/artist-of-the-month-diana-suskind-
 opening-and-exhibit
DTSTART;TZID=America/Anguilla:20140502T180000
DTEND;TZID=America/Anguilla:20140502T200000
CATEGORIES:opening, on, may, 2nd, exhibit, partially, now, and, offici
 ally, starting, "opening."
LOCATION:45 Main Street, Leominster, MA 01453
WEBSITE:http://Leominster Art Center and Gallery
URL:http://Leominster Art Center and Gallery
CONTACT:978 840 7480
ORGANIZER:Iphy Berg and Diana Suskind
ATTACH;FMTTYPE="image/jpeg":http://storage.ning.com/topology/rest/1.0/
 file/get/1113364681?profile=original
ATTENDEE;ROLE=REQ-PARTICIPANT;PARTSTAT=ACCEPTED;RSVP=TRUE;CN="Diana Su
 skind":https://cnycreators.com/profile/DianaSuskind
END:VEVENT
END:VCALENDAR
