BEGIN:VCALENDAR
PRODID:NingEventWidget-v1
VERSION:2.0
METHOD:PUBLISH
BEGIN:VTIMEZONE
TZID:America/Anguilla
X-LIC-LOCATION:America/Anguilla
BEGIN:STANDARD
TZOFFSETFROM:-0400
TZOFFSETTO:-0400
TZNAME:AST
DTSTART:19700101T000000
END:STANDARD
END:VTIMEZONE
BEGIN:VEVENT
UID:5906932:Event:38118
DTSTAMP:20260420T231947Z
SUMMARY:Baldwinsville Farmers Market!
DESCRIPTION:The Baldwinsville Farmers Market is looking for artists an
 d craftspersons to participate!    Whether to set up each week to s
 ell your items, to teach on site classes for children or adults, to le
 ad activities for Market go-ers....we want to hear your creative ideas
  about how to make the Market a unique and fun community activity!\nTh
 e Baldwinsville Farmers Market will be held each Friday, noon to 6:30p
 m, June 17th-Oct 28th.   The Market will feature locally grown produ
 ce, locally made foods, locally created arts and handmade items, and a
  variety of events and activities.    The Market will take place in
  the parking lot next to the Baldwinsville Public Library, on Virginia
  Street.   Please contact us at baldwinsvillefarmersmarket@gmail.com
  for more information!\n\nFor more information visit https://cnycreato
 rs.com/events/baldwinsville-farmers-market
DTSTART;TZID=America/Anguilla:20110617T180000
DTEND;TZID=America/Anguilla:20111028T190000
CATEGORIES:farmers, market
LOCATION:Virginia Street parking lot next to Baldwinsville Public Libr
 ary, Baldwinsville, NY
WEBSITE:
URL:
CONTACT:
ORGANIZER;CN="Baldwinsville Farmers Market":https://cnycreators.com/pr
 ofile/LoriPinzer
ATTACH;FMTTYPE="image/jpeg":
ATTENDEE;ROLE=REQ-PARTICIPANT;PARTSTAT=ACCEPTED;RSVP=TRUE;CN="Baldwins
 ville Farmers Market":https://cnycreators.com/profile/LoriPinzer
END:VEVENT
END:VCALENDAR
