BEGIN:VCALENDAR
PRODID:NingEventWidget-v1
VERSION:2.0
METHOD:PUBLISH
BEGIN:VTIMEZONE
TZID:America/Anguilla
X-LIC-LOCATION:America/Anguilla
BEGIN:STANDARD
TZOFFSETFROM:-0400
TZOFFSETTO:-0400
TZNAME:AST
DTSTART:19700101T000000
END:STANDARD
END:VTIMEZONE
BEGIN:VEVENT
UID:5906932:Event:6173
DTSTAMP:20260424T132047Z
SUMMARY:\"BREW & VIEW\" 35mm Film Series:PORKY'S & REVENGE OF CHEERLEA
 DERS (Palace Theater, Syracuse)
DESCRIPTION:Friday April 29th 2011:\n\n\"BREW & VIEW\" 35mm Film Serie
 s and SYRFILM presents a 35mm double feature of:\nPORKY'S - 7:30pm\nRE
 VENGE OF THE CHEERLEADERS - 9:30pm\n\nBoth movies $10/ $8 FOR STUDENTS
  WITH STUDENT ID/ 17+/ 21 + with valid ID for alcohol.\n\nThe Palace T
 heater\n2384 James Street\nSyracuse, NY 13206\n\nPlot Summary for\nPor
 ky's (1982) Bob Clark director of Christmas Story and Black Christmas 
 »\nad feedbackWe follow a bunch of high school kids through a period 
 in their puberty. Their lives mainly consist of watching the girls in 
 the shower and making life a living hell for their teachers and for ea
 ch other. The movie is packed with practical jokes and eccentric chara
 cters, like Pee Wee with the short dick (which he measures every morni
 ng) who met up for sex with the school \"mattress\" Wendy already wear
 ing a rubber, or the fat teaching bitch Beulah Balbricker who is deter
 mined on making life a living hell for the boys. The name \"Porky's\" 
 is the name of a striptease bar the boys get thrown out of and humilia
 ted in in the beginning of the movie. They have their minds set on rev
 enge, but that's not easy as the owner's brother is sheriff. Only by f
 orgetting their internal differences can they defeat Porky and his gan
 g. Written by Rune Dahl Fitjar\n\nPlot Summary for\nRevenge of the Che
 erleaders (1976) More at IMDbPro »\nad feedbackThe tale of the Aloha 
 Cheerleaders' struggle against Lincoln high. High points include such 
 events as the Aloha girls raiding a Lincoln classroom to get drugs, th
 en putting aforementioned drugs in the cafeteria food while the state 
 school inspectors are present. Worth the rental price just so if you e
 ver meet David Hasselhoff, you can say \"Hey, I loved your work as Bon
 er!\" Written by Eric Glass\nTotally Undignified Film Debuts: David Ha
 sselhoff In REVENGE OF THE CHEERLEADERS\nPosted by Paul Hooson\n\nPubl
 ished: July 11, 2010 - 2:45 PM\nDavid Hasselhoff made a totally undign
 ified film debut in 1976 back in the simply dreadful REVENGE OF THE CH
 EERLEADERS. This was a horrid sequel to the highly successful soft-cor
 e porn comedy, THE CHEERLEADERS. While the film did feature some fleet
 ing moments of full female frontal nudity, it lacked the simulated sex
  scenes of the first film. But lengthy segments of awful dance sequenc
 es were peppered throughout the second film. Hasselhoff unfortunately 
 danced in this film as well. And the result was indeed truly frighteni
 ng.\n\n\nFor more info:\n315-436-4723\nbrewandview@gmail\nwww.palaceon
 james.com\nwww.myspace.com/35mmbrewandview\n\nFor more information vis
 it https://cnycreators.com/events/brew-view-35mm-film
DTSTART;TZID=America/Anguilla:20110429T190000
DTEND;TZID=America/Anguilla:20110429T233000
CATEGORIES:frat, boy, film, festival
LOCATION:Palace Theater
WEBSITE:http://www.myspace.com/35mmbrewandview
URL:http://www.myspace.com/35mmbrewandview
CONTACT:315-436-4723
ORGANIZER;CN="Jeff Meyer":https://cnycreators.com/profile/JeffMeyer
ATTACH;FMTTYPE="image/jpeg":http://storage.ning.com/topology/rest/1.0/
 file/get/1113327018?profile=original
ATTENDEE;ROLE=REQ-PARTICIPANT;PARTSTAT=ACCEPTED;RSVP=TRUE;CN="Jeff Mey
 er":https://cnycreators.com/profile/JeffMeyer
END:VEVENT
END:VCALENDAR
