BEGIN:VCALENDAR
PRODID:NingEventWidget-v1
VERSION:2.0
METHOD:PUBLISH
BEGIN:VTIMEZONE
TZID:America/Anguilla
X-LIC-LOCATION:America/Anguilla
BEGIN:STANDARD
TZOFFSETFROM:-0400
TZOFFSETTO:-0400
TZNAME:AST
DTSTART:19700101T000000
END:STANDARD
END:VTIMEZONE
BEGIN:VEVENT
UID:5906932:Event:185126
DTSTAMP:20260424T022628Z
SUMMARY:Build a Faery Dwelling Class
DESCRIPTION:Saturdays and Sundays at Noon and 3 - a 2 hour class where
  you will build a beautiful Faery Dwelling to take home. Join the hund
 reds of people who have discovered the joy in building a Faery Dwellin
 g. $20,$35,$45 Text or call (315 )391-5115 Also by appointment\n\nFor 
 more information visit https://cnycreators.com/events/build-a-faery-dw
 elling-class-1
DTSTART;TZID=America/Anguilla:20250220T180000
DTEND;TZID=America/Anguilla:20250220T190000
CATEGORIES:build, a, faery, dwelling, class
LOCATION:Antiques West
WEBSITE:
URL:
CONTACT:315-391-5115
ORGANIZER;CN="Peter Svoboda":https://cnycreators.com/profile/PeterSvob
 oda
ATTACH;FMTTYPE="image/jpeg":https://storage.ning.com/topology/rest/1.0
 /file/get/13463705861?profile=original
ATTENDEE;ROLE=REQ-PARTICIPANT;PARTSTAT=ACCEPTED;RSVP=TRUE;CN="Peter Sv
 oboda":https://cnycreators.com/profile/PeterSvoboda
END:VEVENT
END:VCALENDAR
