BEGIN:VCALENDAR
PRODID:NingEventWidget-v1
VERSION:2.0
METHOD:PUBLISH
BEGIN:VTIMEZONE
TZID:America/Anguilla
X-LIC-LOCATION:America/Anguilla
BEGIN:STANDARD
TZOFFSETFROM:-0400
TZOFFSETTO:-0400
TZNAME:AST
DTSTART:19700101T000000
END:STANDARD
END:VTIMEZONE
BEGIN:VEVENT
UID:5906932:Event:94151
DTSTAMP:20260423T142127Z
SUMMARY:CALLING ALL VISUAL ARTIST
DESCRIPTION:Would you like to see your work larger than life?  Well t
 hen this is your chance.  the CNY Arts Center (different than CNY Art
 ists - here) is looking for you.  During Harbor Fest in Oswego, this 
 years recycled art project will be using one origional piece of art th
 at is juried selected to re reproduced to an 8'x12' visual hanging wor
 k to be displayed on a building side somewhere very visible in Oswego 
 County (has not yet been selected).  The origonal art work will be sc
 aled up from it's submitted size and reproduced on hundreds of little 
 retangles of aluminum that will hang freely and blow in the wind.   
 See the website for details and entry form  http://www.cnyartscenter
 .com/.  click on the \"art in the wind\" link.  you can also take a 
 look at last years 2012 mural project as well made from recycled glass
  bottles, (picture shown to the left) and on the web.  Deadlines have
  been extended for two weeks, new deadline for submission will be Febr
 uary 16th, and selected by February 28th.  all entries will be notifi
 ed of winner.  Any additional questions e-mail me at gamo2000@aol.com
  - subject, art in the wind.\n\nFor more information visit https://cny
 creators.com/events/calling-all-visual-artist
DTSTART;TZID=America/Anguilla:20130115T000000
DTEND;TZID=America/Anguilla:20130216T235900
CATEGORIES:art, in, the, wind
LOCATION:online or submit by mail CNY Arts Center
WEBSITE:http://www.cnyartscenter.com/
URL:http://www.cnyartscenter.com/
CONTACT:315-592-3373
ORGANIZER;CN="Bonnie L McClellan":https://cnycreators.com/profile/Bonn
 ieLMcClellan
ATTACH;FMTTYPE="image/jpeg":http://storage.ning.com/topology/rest/1.0/
 file/get/1113358135?profile=original
ATTENDEE;ROLE=REQ-PARTICIPANT;PARTSTAT=ACCEPTED;RSVP=TRUE;CN="Bonnie L
  McClellan":https://cnycreators.com/profile/BonnieLMcClellan
END:VEVENT
END:VCALENDAR
