BEGIN:VCALENDAR
PRODID:NingEventWidget-v1
VERSION:2.0
METHOD:PUBLISH
BEGIN:VTIMEZONE
TZID:America/Anguilla
X-LIC-LOCATION:America/Anguilla
BEGIN:STANDARD
TZOFFSETFROM:-0400
TZOFFSETTO:-0400
TZNAME:AST
DTSTART:19700101T000000
END:STANDARD
END:VTIMEZONE
BEGIN:VEVENT
UID:5906932:Event:13313
DTSTAMP:20260424T143816Z
SUMMARY:Central New York Art Guild Spring Show at Radisson
DESCRIPTION: \"Ancient Italian Fountain\" by Charlotte Blanchard, will
  be one of many works of art on display at the Central New York Art Gu
 ild's Spring Show.  Guild members, who hail from all over Central New
  York, will be showcasing photography, Watercolor, Acrylics, Oils Past
 els and More.  A drawing will be held for donated artwork, and refres
 hments will be served.  Proceeds benefit the guild sponsored High Sch
 ool Student Exhibition.\n \nThis is a 2 Day Event  Sat April 2 & Sun
  April 3\nEach Day from 1 to 4:30 PM\n\nFor more information visit htt
 ps://cnycreators.com/events/central-new-york-art-guild
DTSTART;TZID=America/Anguilla:20110402T130000
DTEND;TZID=America/Anguilla:20110403T163000
CATEGORIES:art, show, and, sale
LOCATION:Aspen House
WEBSITE:http://www.cnyartguild.com/
URL:http://www.cnyartguild.com/
CONTACT:315-672-3769
ORGANIZER:Dian Paura-Chellis       chellis1@twcny.rr.com
ATTACH;FMTTYPE="image/jpeg":http://storage.ning.com/topology/rest/1.0/
 file/get/1113334534?profile=original
ATTENDEE;ROLE=REQ-PARTICIPANT;PARTSTAT=ACCEPTED;RSVP=TRUE;CN="Diane La
 nge":https://cnycreators.com/profile/DianeLange
ATTENDEE;ROLE=REQ-PARTICIPANT;PARTSTAT=ACCEPTED;RSVP=TRUE;CN="Judith K
 . Hand":https://cnycreators.com/profile/JudithKHand
END:VEVENT
END:VCALENDAR
