BEGIN:VCALENDAR
PRODID:NingEventWidget-v1
VERSION:2.0
METHOD:PUBLISH
BEGIN:VTIMEZONE
TZID:America/Anguilla
X-LIC-LOCATION:America/Anguilla
BEGIN:STANDARD
TZOFFSETFROM:-0400
TZOFFSETTO:-0400
TZNAME:AST
DTSTART:19700101T000000
END:STANDARD
END:VTIMEZONE
BEGIN:VEVENT
UID:5906932:Event:14230
DTSTAMP:20260422T064854Z
SUMMARY:CNY ART FORUM CO-SPONSORS MEETING WITH CNYARTISTS.COM
DESCRIPTION:PURPOSE: LEARN HOW TO MAKE YOUR SITE BE LIKE \"EYE CANDY\"
  FORA BUYER!  MEANS YOU LEARN THE \"APPEARANCE\" METHOD OF COLORIZING
  MY PAGE ETC.   ALL QUES ANSWERED.  BECOME THE \"EARLY BIRD THAT GE
 TS THE SALE!\"  CASUAL & FUN & MEET MEMBERS.   CU FEB 26TH.  PROM
 PT ARRIVAL APPRECIATED.\n\nFor more information visit https://cnycreat
 ors.com/events/cny-art-forum-cosponsors
DTSTART;TZID=America/Anguilla:20110226T133000
DTEND;TZID=America/Anguilla:20110226T150000
CATEGORIES:training, for, members, of, cny, artist, crafters, "&", "cr
 eators/site", setup, "etc."
LOCATION:Salina Free Library, Community Rm, 100 Belmont, Mattydale NY(
 west off Route 11;via Bernard St)
WEBSITE:
URL:
CONTACT:
ORGANIZER;CN="arleen fordock":https://cnycreators.com/profile/arleenfo
 rdock
ATTACH;FMTTYPE="image/jpeg":
ATTENDEE;ROLE=REQ-PARTICIPANT;PARTSTAT=ACCEPTED;RSVP=TRUE;CN="arleen f
 ordock":https://cnycreators.com/profile/arleenfordock
END:VEVENT
END:VCALENDAR
