BEGIN:VCALENDAR
PRODID:NingEventWidget-v1
VERSION:2.0
METHOD:PUBLISH
BEGIN:VTIMEZONE
TZID:America/Anguilla
X-LIC-LOCATION:America/Anguilla
BEGIN:STANDARD
TZOFFSETFROM:-0400
TZOFFSETTO:-0400
TZNAME:AST
DTSTART:19700101T000000
END:STANDARD
END:VTIMEZONE
BEGIN:VEVENT
UID:5906932:Event:64418
DTSTAMP:20260424T080509Z
SUMMARY:CNY Veterans Parade and Expo
DESCRIPTION:CNY Veterans Parade and Expo will be held from 11 a.m. unt
 il 4 p.m. Saturday, Nov. 5 at the NYS Fairgrounds. The Expo is from 11
  a.m. till 4 p.m. in the Center of Progress Building. It will feature 
 military and veteran related informational kiosks and tables. It will 
 include performances by the Baldwinsville Community Band, a special so
 ldier ceremony and the West Point Drill Team. The Parade is at noon. I
 t will feature more than 90 organizations - veterans organizations fro
 m across the state, high school marching bands, and military units.\n\
 nFor more information visit https://cnycreators.com/events/cny-veteran
 s-parade-and-expo
DTSTART;TZID=America/Anguilla:20111105T110000
DTEND;TZID=America/Anguilla:20111105T160000
CATEGORIES:parade
LOCATION:NYS Fairgrounds
WEBSITE:http://www.cnyveteransparade.org
URL:http://www.cnyveteransparade.org
CONTACT:428-9651
ORGANIZER;CN="CNY Veterans Parade":https://cnycreators.com/profile/CNY
 VeteransParade
ATTACH;FMTTYPE="image/jpeg":http://storage.ning.com/topology/rest/1.0/
 file/get/1113349189?profile=original
ATTENDEE;ROLE=REQ-PARTICIPANT;PARTSTAT=ACCEPTED;RSVP=TRUE;CN="CNY Vete
 rans Parade":https://cnycreators.com/profile/CNYVeteransParade
END:VEVENT
END:VCALENDAR
