BEGIN:VCALENDAR
PRODID:NingEventWidget-v1
VERSION:2.0
METHOD:PUBLISH
BEGIN:VTIMEZONE
TZID:America/Anguilla
X-LIC-LOCATION:America/Anguilla
BEGIN:STANDARD
TZOFFSETFROM:-0400
TZOFFSETTO:-0400
TZNAME:AST
DTSTART:19700101T000000
END:STANDARD
END:VTIMEZONE
BEGIN:VEVENT
UID:5906932:Event:80367
DTSTAMP:20260423T125058Z
SUMMARY:Contact + Exchange Exhibit Opening at KAC Clinton NY
DESCRIPTION: contact + exchange\nANNA HOBERMAN + DIANA SCHMERTZ + L
 EIGH YARDLEY\n\n\n \nKIRKLAND ART CENTER SEPTEMBER 6 - OCTOBER 17, 201
 2\nGallery Hours: Tuesday, Wednesday, Friday 9am-4pm; Thursday 9am-9pm
 ; Saturday 9am-2pm; and by appointment.\n\n\n\n\nFor more information 
 visit https://cnycreators.com/events/contact-exchange-exhibit-opening-
 at-kac-clinton-ny
DTSTART;TZID=America/Anguilla:20120906T170000
DTEND;TZID=America/Anguilla:20121017T190000
CATEGORIES:exhibit
LOCATION:Kirkland Art Center
WEBSITE:http://www.kirklandartcenter.org
URL:http://www.kirklandartcenter.org
CONTACT:
ORGANIZER:Kirkland Art Center
ATTACH;FMTTYPE="image/jpeg":http://storage.ning.com/topology/rest/1.0/
 file/get/1113361816?profile=original
ATTENDEE;ROLE=REQ-PARTICIPANT;PARTSTAT=ACCEPTED;RSVP=TRUE;CN="Leigh Ya
 rdley":https://cnycreators.com/profile/LeighYardley
END:VEVENT
END:VCALENDAR
