BEGIN:VCALENDAR
PRODID:NingEventWidget-v1
VERSION:2.0
METHOD:PUBLISH
BEGIN:VTIMEZONE
TZID:America/Anguilla
X-LIC-LOCATION:America/Anguilla
BEGIN:STANDARD
TZOFFSETFROM:-0400
TZOFFSETTO:-0400
TZNAME:AST
DTSTART:19700101T000000
END:STANDARD
END:VTIMEZONE
BEGIN:VEVENT
UID:5906932:Event:75087
DTSTAMP:20260423T162033Z
SUMMARY:Family Portraits at Lockwood Lavender Farm
DESCRIPTION:Families, Couples, Singles! Everyone is invited to the bea
 utiful Lockwood Lavender Farm to have your portraits taken in rows of 
 beautiful and fragrant lavender!\nJust past Mandana on W. Lake Road ou
 tside of Skaneateles with the beautiful lake visible in the distance. 
 The warm summer air and late day light is the perfect setting for crea
 ting wonderful portraits with the people you love that you will cheris
 h forever.\nIncluded with the price are 1 8x12 print, 2 5x7prints and 
 a private gallery from which to order more prints, gallery wraps, card
 s, etc...\n\nFor more information visit https://cnycreators.com/events
 /family-portraits-at-lockwood-lavender-farm
DTSTART;TZID=America/Anguilla:20120618T170000
DTEND;TZID=America/Anguilla:20120626T190000
CATEGORIES:portrait, session, in, lavender
LOCATION:Just Past Mandana
WEBSITE:http://www.lockwoodfarm.blogspot.com/
URL:http://www.lockwoodfarm.blogspot.com/
CONTACT:315-498-9567
ORGANIZER;CN="Janet Detota":https://cnycreators.com/profile/JanetLeePh
 otography
ATTACH;FMTTYPE="image/jpeg":http://storage.ning.com/topology/rest/1.0/
 file/get/1113354396?profile=original
ATTENDEE;ROLE=REQ-PARTICIPANT;PARTSTAT=ACCEPTED;RSVP=TRUE;CN="Janet De
 tota":https://cnycreators.com/profile/JanetLeePhotography
END:VEVENT
END:VCALENDAR
