BEGIN:VCALENDAR
PRODID:NingEventWidget-v1
VERSION:2.0
METHOD:PUBLISH
BEGIN:VTIMEZONE
TZID:America/Anguilla
X-LIC-LOCATION:America/Anguilla
BEGIN:STANDARD
TZOFFSETFROM:-0400
TZOFFSETTO:-0400
TZNAME:AST
DTSTART:19700101T000000
END:STANDARD
END:VTIMEZONE
BEGIN:VEVENT
UID:5906932:Event:75876
DTSTAMP:20260424T040736Z
SUMMARY:\"Heroes\" Red Cross and CNY Arts Center
DESCRIPTION:The American Red Cross and the Fulton CNY Arts Center pair
  up to participate in a fund raiser in honor of our hero's.  This wil
 l be an event to remember, an evening of food, beverages and sellable 
 art.  We are looking for artists that have the ability to work onsite
 !  This is a fund raiser so we are looking for artists to donate 2 pe
 ices of art that represent what you feel our american heroes are.  Th
 is can be drawings, paintings, sculpture, anything that can be created
  and acutioned off.  One peice will be finished, and the other will n
 eed to be created/completed onsite.  Each item will be acutioned off 
 and the proceeds will go to the American Red Cross and CNY Arts Center
 . See our web site for more information!\n\nFor more information visit
  https://cnycreators.com/events/heroes-red-cross-and-cny-arts-center
DTSTART;TZID=America/Anguilla:20120428T180000
DTEND;TZID=America/Anguilla:20120428T210000
CATEGORIES:arts, in, motion, -, heroes, event
LOCATION:Thunder Island Oasis
WEBSITE:http://www.cnyartscenter.com/
URL:http://www.cnyartscenter.com/
CONTACT:315-598-8812 Nancy Fox
ORGANIZER;CN="Bonnie L McClellan":https://cnycreators.com/profile/Bonn
 ieLMcClellan
ATTACH;FMTTYPE="image/jpeg":
ATTENDEE;ROLE=REQ-PARTICIPANT;PARTSTAT=ACCEPTED;RSVP=TRUE;CN="Bonnie L
  McClellan":https://cnycreators.com/profile/BonnieLMcClellan
END:VEVENT
END:VCALENDAR
