BEGIN:VCALENDAR
PRODID:NingEventWidget-v1
VERSION:2.0
METHOD:PUBLISH
BEGIN:VTIMEZONE
TZID:America/Anguilla
X-LIC-LOCATION:America/Anguilla
BEGIN:STANDARD
TZOFFSETFROM:-0400
TZOFFSETTO:-0400
TZNAME:AST
DTSTART:19700101T000000
END:STANDARD
END:VTIMEZONE
BEGIN:VEVENT
UID:5906932:Event:66603
DTSTAMP:20260424T075829Z
SUMMARY:Native American Cultural Event
DESCRIPTION:\nJoin us for this special cultural event at the Central 
  New York Center of SUNY Empire State College.  The keynote presentor
  is TBA.   Following the presentation, will be a celebration with lo
 cal Native American artists with their arts,   featuring Tom Huff, w
 ell known artist and curator in the Central New York Region.  Tom has
  also  been named  artist-in-residence at  Empire State College, Sy
 racuse.\nTo add to the festivities, guests are invited to sample Nativ
 e American food, join Native American dancers and listen to the sounds
  of The GunRunners, a talented and high energy blues/rock band.\n\n** 
 arts/crafts are available for purchase **\n\n\nFor more information vi
 sit https://cnycreators.com/events/native-american-cultural-event
DTSTART;TZID=America/Anguilla:20111202T170000
DTEND;TZID=America/Anguilla:20111202T200000
CATEGORIES:art
LOCATION:SUNY Empire State College - Central Arts Gallery
WEBSITE:
URL:
CONTACT:(315) 460-3142
ORGANIZER;CN="SUNY Empire State College":https://cnycreators.com/profi
 le/SUNYEmpireStateCollege
ATTACH;FMTTYPE="image/jpeg":
ATTENDEE;ROLE=REQ-PARTICIPANT;PARTSTAT=ACCEPTED;RSVP=TRUE;CN="SUNY Emp
 ire State College":https://cnycreators.com/profile/SUNYEmpireStateColl
 ege
END:VEVENT
END:VCALENDAR
