BEGIN:VCALENDAR
PRODID:NingEventWidget-v1
VERSION:2.0
METHOD:PUBLISH
BEGIN:VTIMEZONE
TZID:America/Anguilla
X-LIC-LOCATION:America/Anguilla
BEGIN:STANDARD
TZOFFSETFROM:-0400
TZOFFSETTO:-0400
TZNAME:AST
DTSTART:19700101T000000
END:STANDARD
END:VTIMEZONE
BEGIN:VEVENT
UID:5906932:Event:74303
DTSTAMP:20260421T091129Z
SUMMARY:Needle -felted face part 1
DESCRIPTION:Learn the basics of sculpting a face using fibers and bar
 bed needles. This class is taught by alice c w dennis at the Rome Art
  and community Center Class fee is $25.00 ($20.00 for RACC members) I
 f needed a supply kit will be available at the class for an additional
  $10.00 . For more information visit www.romeart.org\n\nFor more infor
 mation visit https://cnycreators.com/events/needle-felted-face-part-1
DTSTART;TZID=America/Anguilla:20120321T110000
DTEND;TZID=America/Anguilla:20120321T130000
CATEGORIES:class
LOCATION:The Rome Art and community Center
WEBSITE:http://www.romeart.org
URL:http://www.romeart.org
CONTACT:3153361040
ORGANIZER;CN="alice c.w. dennis":https://cnycreators.com/profile/alice
 cwdennis
ATTACH;FMTTYPE="image/jpeg":
ATTENDEE;ROLE=REQ-PARTICIPANT;PARTSTAT=ACCEPTED;RSVP=TRUE;CN="alice c.
 w. dennis":https://cnycreators.com/profile/alicecwdennis
END:VEVENT
END:VCALENDAR
