BEGIN:VCALENDAR
PRODID:NingEventWidget-v1
VERSION:2.0
METHOD:PUBLISH
BEGIN:VTIMEZONE
TZID:America/Anguilla
X-LIC-LOCATION:America/Anguilla
BEGIN:STANDARD
TZOFFSETFROM:-0400
TZOFFSETTO:-0400
TZNAME:AST
DTSTART:19700101T000000
END:STANDARD
END:VTIMEZONE
BEGIN:VEVENT
UID:5906932:Event:75447
DTSTAMP:20260421T074018Z
SUMMARY:Recycled Art Challenge Exhibit
DESCRIPTION:A juried exhibit. Works must utilize recycled materials in
 /as the primary medium to be eligible.\nOpening Reception Thursday, Ma
 rch 22 . Awards at 6:30.\nExhibit on display through April 27. for mor
 e info www.romeart.org\n\nFor more information visit https://cnycreato
 rs.com/events/recycled-art-challenge-exhibit
DTSTART;TZID=America/Anguilla:20120322T180000
DTEND;TZID=America/Anguilla:20120427T170000
CATEGORIES:exhibit
LOCATION:Rome Art and Community Center
WEBSITE:http://www.romeart.org
URL:http://www.romeart.org
CONTACT:3153361040
ORGANIZER:Rome Art and Community Center
ATTACH;FMTTYPE="image/jpeg":
ATTENDEE;ROLE=REQ-PARTICIPANT;PARTSTAT=ACCEPTED;RSVP=TRUE;CN="alice c.
 w. dennis":https://cnycreators.com/profile/alicecwdennis
END:VEVENT
END:VCALENDAR
