BEGIN:VCALENDAR
PRODID:NingEventWidget-v1
VERSION:2.0
METHOD:PUBLISH
BEGIN:VTIMEZONE
TZID:America/Anguilla
X-LIC-LOCATION:America/Anguilla
BEGIN:STANDARD
TZOFFSETFROM:-0400
TZOFFSETTO:-0400
TZNAME:AST
DTSTART:19700101T000000
END:STANDARD
END:VTIMEZONE
BEGIN:VEVENT
UID:5906932:Event:70252
DTSTAMP:20260421T073849Z
SUMMARY:Salon, strictly local
DESCRIPTION:Central New York artists are invited to submit work for an
  upcoming exhibition titled:\nSalon, Strictly Local\nThe Gallery at Th
 e Tech Garden\n(235 Harrison St. Syracuse)\nDates: January 26th - Febr
 uary 29th 2012\nProfessional, Student and Amateur artists are encourag
 ed to submit work in any medium. Work from the following counties will
  be considered: Cayuga, Cortland, Herkimer, Jefferson, Lewis, Madison
 , Oneida, Onondaga, Oswego, Seneca, St. Lawrence and Tompkins County.\
 nPlease submit:\nName and contact information,\nCounty of residence,\n
 and .jpg images of up to three (3) pieces of work(including titles, me
 diums and sizes)\nto: TechGardenART@gmail.com\n\nAll work will be con
 sidered and is being curated by Ty Marshal, artist in residence at The
  Tech Garden.\nSUBMISSION DEADLINE: January 13th, 2012\n\nThere is no 
 fee to submit your work. Once work is selected, there is a $5.00 regis
 tration fee, per artist, due upon delivery of artwork.\n\n\nFor more i
 nformation visit https://cnycreators.com/events/salon-strictly-local
DTSTART;TZID=America/Anguilla:20111214T000000
DTEND;TZID=America/Anguilla:20120113T235900
CATEGORIES:call, for, artists
LOCATION:The Gallery at The Tech Garden
WEBSITE:http://www.SalonCNY.blogspot.com
URL:http://www.SalonCNY.blogspot.com
CONTACT:
ORGANIZER;CN="Ty Marshal":https://cnycreators.com/profile/TyMarshal
ATTACH;FMTTYPE="image/jpeg":http://storage.ning.com/topology/rest/1.0/
 file/get/1113351073?profile=original
ATTENDEE;ROLE=REQ-PARTICIPANT;PARTSTAT=ACCEPTED;RSVP=TRUE;CN="Lachlan 
 Kadick":https://cnycreators.com/profile/LachlanKadick
ATTENDEE;ROLE=REQ-PARTICIPANT;PARTSTAT=ACCEPTED;RSVP=TRUE;CN=Windwalke
 r:https://cnycreators.com/profile/Windwalker
ATTENDEE;ROLE=REQ-PARTICIPANT;PARTSTAT=ACCEPTED;RSVP=TRUE;CN="Eva Hunt
 er":https://cnycreators.com/profile/EvaHunter
ATTENDEE;ROLE=REQ-PARTICIPANT;PARTSTAT=ACCEPTED;RSVP=TRUE;CN="Ty Marsh
 al":https://cnycreators.com/profile/TyMarshal
END:VEVENT
END:VCALENDAR
