BEGIN:VCALENDAR
PRODID:NingEventWidget-v1
VERSION:2.0
METHOD:PUBLISH
BEGIN:VTIMEZONE
TZID:America/Anguilla
X-LIC-LOCATION:America/Anguilla
BEGIN:STANDARD
TZOFFSETFROM:-0400
TZOFFSETTO:-0400
TZNAME:AST
DTSTART:19700101T000000
END:STANDARD
END:VTIMEZONE
BEGIN:VEVENT
UID:5906932:Event:75862
DTSTAMP:20260424T055653Z
SUMMARY:Syracuse Photography Workshop
DESCRIPTION:Come join local photographers Phil Spitze and Scott Thomas
  and learn the basic tips and tricks of photography that you can apply
  to any camera.\n \nThis 1/2 day workshop focuses on:\n\nComposition\
 nLighting\nTips for your gear\n\n\nThrough a series of lectures, examp
 le photographs, and hands-on assistance you will learn that you can ta
 ke better photos with the camera you already own.\n\nThe workshop ends
  with a Photowalk* through downtown Syracuse allowing all participants
  a chance to practice in a historic and photography-rich setting.\n\n\
 nFor more information visit https://cnycreators.com/events/syracuse-ph
 otography-workshop
DTSTART;TZID=America/Anguilla:20120412T130000
DTEND;TZID=America/Anguilla:20120412T180000
CATEGORIES:workshop
LOCATION:The Tech Garden
WEBSITE:http://syrphotos.eventbrite.com/
URL:http://syrphotos.eventbrite.com/
CONTACT:312-834-7445
ORGANIZER;CN="Phil Spitze":https://cnycreators.com/profile/PhilSpitze
ATTACH;FMTTYPE="image/jpeg":
ATTENDEE;ROLE=REQ-PARTICIPANT;PARTSTAT=ACCEPTED;RSVP=TRUE;CN="Phil Spi
 tze":https://cnycreators.com/profile/PhilSpitze
END:VEVENT
END:VCALENDAR
