BEGIN:VCALENDAR
PRODID:NingEventWidget-v1
VERSION:2.0
METHOD:PUBLISH
BEGIN:VTIMEZONE
TZID:America/Anguilla
X-LIC-LOCATION:America/Anguilla
BEGIN:STANDARD
TZOFFSETFROM:-0400
TZOFFSETTO:-0400
TZNAME:AST
DTSTART:19700101T000000
END:STANDARD
END:VTIMEZONE
BEGIN:VEVENT
UID:5906932:Event:93762
DTSTAMP:20260421T043841Z
SUMMARY:The Creativity Workshop
DESCRIPTION:http://www.creativityworkshop.com/newyork.html\nThe Creati
 vity Workshop in New York City will help you be more creative in your 
 personal and professional life. To this end, the Workshop uses the too
 ls of creative writing, memoir, art, photography, storytelling, mapmak
 ing, and guided visualization. New York City is famous for its museums
 , cultural life, shopping and restaurants. It is a great place to rech
 arge your energy and find inspiration.\nThe Workshop meets for 3 hours
  a day. You will have the rest of the time to wander around the city.\
 nThe Creativity Workshop is attended by people from many different cou
 ntries and professions, including business, education, psychology, the
  sciences and the arts.\nExperts agree that creativity is key to succe
 ss in all professions. It also helps individuals feel more fulfilled, 
 relaxed, and happier.\nMany people who have taken The Creativity Works
 hop say that it was an essential and transformative experience. It hel
 ped them write their books, start new companies, complete long overdue
  projects, transition to rewarding retirements, and change the way the
 y look at life.\nThe techniques we explore in class will sharpen your 
 appreciation of New York, and the sounds and sights of this dynamic ci
 ty will surely feed your creative work in class.\n\n\nFor more informa
 tion visit https://cnycreators.com/events/the-creativity-workshop-3
DTSTART;TZID=America/Anguilla:20131018T100000
DTEND;TZID=America/Anguilla:20131021T130000
CATEGORIES:workshop
LOCATION:The Meta Center
WEBSITE:
URL:
CONTACT:212.203.3252
ORGANIZER:The Creativity Workshop
ATTACH;FMTTYPE="image/jpeg":http://storage.ning.com/topology/rest/1.0/
 file/get/1113361638?profile=original
ATTENDEE;ROLE=REQ-PARTICIPANT;PARTSTAT=ACCEPTED;RSVP=TRUE;CN="Ceci Glu
 sman":https://cnycreators.com/profile/CeciGlusman
ATTENDEE;ROLE=REQ-PARTICIPANT;PARTSTAT=TENTATIVE;RSVP=TRUE;CN="Clark C
 oyote Ward":https://cnycreators.com/profile/ClarkCoyoteWard
END:VEVENT
END:VCALENDAR
