BEGIN:VCALENDAR
PRODID:NingEventWidget-v1
VERSION:2.0
METHOD:PUBLISH
BEGIN:VTIMEZONE
TZID:America/Anguilla
X-LIC-LOCATION:America/Anguilla
BEGIN:STANDARD
TZOFFSETFROM:-0400
TZOFFSETTO:-0400
TZNAME:AST
DTSTART:19700101T000000
END:STANDARD
END:VTIMEZONE
BEGIN:VEVENT
UID:5906932:Event:21219
DTSTAMP:20260424T143309Z
SUMMARY:Women and Wine
DESCRIPTION:I will be a vendor at this event.  Stop by and check out 
 my photography and enjoy all the other vendors.\n\nFor more informatio
 n visit https://cnycreators.com/events/women-and-wine
DTSTART;TZID=America/Anguilla:20110402T100000
DTEND;TZID=America/Anguilla:20110402T170000
CATEGORIES:a, day, to, celebrate, "women!"
LOCATION:Three Brothers Winery
WEBSITE:http://www.3brotherswinery.com/
URL:http://www.3brotherswinery.com/
CONTACT:
ORGANIZER;CN="Donna M. Vanscoy":https://cnycreators.com/profile/TheWay
 ISeeItPhotoART
ATTACH;FMTTYPE="image/jpeg":
ATTENDEE;ROLE=REQ-PARTICIPANT;PARTSTAT=ACCEPTED;RSVP=TRUE;CN="Donna M.
  Vanscoy":https://cnycreators.com/profile/TheWayISeeItPhotoART
END:VEVENT
END:VCALENDAR
