BEGIN:VCALENDAR
PRODID:NingEventWidget-v1
VERSION:2.0
METHOD:PUBLISH
BEGIN:VTIMEZONE
TZID:America/Anguilla
X-LIC-LOCATION:America/Anguilla
BEGIN:STANDARD
TZOFFSETFROM:-0400
TZOFFSETTO:-0400
TZNAME:AST
DTSTART:19700101T000000
END:STANDARD
END:VTIMEZONE
BEGIN:VEVENT
UID:5906932:Event:180851
DTSTAMP:20260421T043935Z
SUMMARY:You Can Add an Event
DESCRIPTION:Tell us about an opening, a show, soething gpoing on and w
 e we will try to spread the word\n\nFor more information visit https:/
 /cnycreators.com/events/you-can-add-an-event
DTSTART;TZID=America/Anguilla:20220606T000000
DTEND;TZID=America/Anguilla:20230531T235900
CATEGORIES:anything
LOCATION:To be listed
WEBSITE:
URL:
CONTACT:
ORGANIZER;CN="Peter Svoboda":https://cnycreators.com/profile/PeterSvob
 oda
ATTACH;FMTTYPE="image/jpeg":
ATTENDEE;ROLE=REQ-PARTICIPANT;PARTSTAT=ACCEPTED;RSVP=TRUE;CN="Peter Sv
 oboda":https://cnycreators.com/profile/PeterSvoboda
END:VEVENT
END:VCALENDAR
